BEGIN:VCALENDAR
VERSION:2.0
PRODID:SchoolNow
CALSCALE:GREGORIAN
BEGIN:VEVENT
UID:45d7dc44-c10b-11ee-8206-0aed7e669019
DTSTAMP:20240201T140745Z
SUMMARY:Spring Break
URL;VALUE=URI:https://www.nltcc.edu/calendar/5240635/spring-break
DTSTART;VALUE=DATE:20240311
DTEND;VALUE=DATE:20240316
END:VEVENT
END:VCALENDAR
