BEGIN:VCALENDAR
VERSION:2.0
PRODID:SchoolNow
CALSCALE:GREGORIAN
BEGIN:VEVENT
UID:93921b84-c10b-11ee-859c-0a58a9feac02
DTSTAMP:20240201T140955Z
SUMMARY:2nd 8 Wk Term - Classes Begin
URL;VALUE=URI:https://www.nltcc.edu/calendar/5240636/2nd-8-wk-term-classes-
 begin
DTSTART;VALUE=DATE:20240318
DTEND;VALUE=DATE:20240319
END:VEVENT
END:VCALENDAR
