BEGIN:VCALENDAR
VERSION:2.0
PRODID:SchoolNow
CALSCALE:GREGORIAN
BEGIN:VEVENT
UID:ae741ccc-c10b-11ee-929f-0aed7e669019
DTSTAMP:20240201T141041Z
SUMMARY:Veteran Priority Registration for Summer & Fall 2024 Opens
URL;VALUE=URI:https://www.nltcc.edu/calendar/5240637/veteran-priority-regis
 tration-for-summer-fall-2024-opens
DTSTART;VALUE=DATE:20240318
DTEND;VALUE=DATE:20240319
END:VEVENT
END:VCALENDAR
