BEGIN:VCALENDAR
VERSION:2.0
PRODID:SchoolNow
CALSCALE:GREGORIAN
BEGIN:VEVENT
UID:c58873d6-c10b-11ee-8116-0a58a9feac02
DTSTAMP:20240201T141119Z
SUMMARY:All Students Registration for Summer & Fall 2024 Opens
URL;VALUE=URI:https://www.nltcc.edu/calendar/5240638/all-students-registrat
 ion-for-summer-fall-2024-opens
DTSTART;VALUE=DATE:20240319
DTEND;VALUE=DATE:20240320
END:VEVENT
END:VCALENDAR
