BEGIN:VCALENDAR
VERSION:2.0
PRODID:SchoolNow
CALSCALE:GREGORIAN
BEGIN:VEVENT
UID:fada40be-c10b-11ee-b9a0-02a2b1e4c167
DTSTAMP:20240201T141249Z
SUMMARY:Grades Available to Students on LoLA
URL;VALUE=URI:https://www.nltcc.edu/calendar/5240640/grades-available-to-st
 udents-on-lola
DTSTART;VALUE=DATE:20240516
DTEND;VALUE=DATE:20240517
END:VEVENT
END:VCALENDAR
