BEGIN:VCALENDAR
VERSION:2.0
PRODID:SchoolNow
CALSCALE:GREGORIAN
BEGIN:VEVENT
UID:19ace4d8-c10c-11ee-ba33-02a2b1e4c167
DTSTAMP:20240201T141340Z
SUMMARY:Employee/Student Holiday
URL;VALUE=URI:https://www.nltcc.edu/calendar/5240641/employee-student-holid
 ay
DTSTART;VALUE=DATE:20240617
DTEND;VALUE=DATE:20240618
END:VEVENT
END:VCALENDAR
