BEGIN:VCALENDAR
VERSION:2.0
PRODID:SchoolNow
CALSCALE:GREGORIAN
BEGIN:VEVENT
UID:f8a0e3d4-cce1-11ee-850d-02748d2f408d
DTSTAMP:20240216T154220Z
SUMMARY:MINDEN Junior/Senior Day
LOCATION:9500 Industrial Dr. Minden\, LA. 71055
URL;VALUE=URI:https://www.nltcc.edu/calendar/5341506/minden-junior-senior-d
 ay
DTSTART:20240321T140000Z
DTEND:20240321T170000Z
ATTACH;FILENAME=MINDEN-Jr.Sr.Day(2024).png;FMTTYPE=image/png:https://campus
 suite-storage.s3.amazonaws.com/prod/1558766/5f3483b4-90ef-11e9-b67b-12dad1
 543caa/2743655/8c97cba8-cce1-11ee-af75-02a7de2c9dbb/file/MINDEN-Jr.Sr.Day(
 2024).png
END:VEVENT
END:VCALENDAR
