BEGIN:VCALENDAR
VERSION:2.0
PRODID:SchoolNow
CALSCALE:GREGORIAN
BEGIN:VEVENT
UID:57a8e888-f044-11ee-9366-02df676e86b1
DTSTAMP:20240401T162441Z
SUMMARY:Memorial Day - College Closed
URL;VALUE=URI:https://www.nltcc.edu/calendar/5682818/memorial-day-college-c
 losed
DTSTART;VALUE=DATE:20240401
DTEND;VALUE=DATE:20240402
END:VEVENT
END:VCALENDAR
