BEGIN:VCALENDAR
VERSION:2.0
PRODID:SchoolNow
CALSCALE:GREGORIAN
BEGIN:VEVENT
UID:8b6fab42-a5d0-11ef-9256-0affd76c3d73
DTSTAMP:20241118T171418Z
SUMMARY:Spring Semester Begins
URL;VALUE=URI:https://www.nltcc.edu/calendar/7041913/spring-semester-begins
DTSTART;VALUE=DATE:20250113
DTEND;VALUE=DATE:20250114
END:VEVENT
END:VCALENDAR
