BEGIN:VCALENDAR
VERSION:2.0
PRODID:SchoolNow
CALSCALE:GREGORIAN
BEGIN:VEVENT
UID:9b7a4830-a5d0-11ef-91b6-0affedc267b7
DTSTAMP:20241118T171445Z
SUMMARY:Employee Holiday - College Closed
URL;VALUE=URI:https://www.nltcc.edu/calendar/7041914/employee-holiday-colle
 ge-closed
DTSTART;VALUE=DATE:20250120
DTEND;VALUE=DATE:20250121
END:VEVENT
END:VCALENDAR
