BEGIN:VCALENDAR
VERSION:2.0
PRODID:SchoolNow
CALSCALE:GREGORIAN
BEGIN:VEVENT
UID:3420b3c4-d2a1-11ef-9a07-0a58a9feac02
DTSTAMP:20250114T175847Z
SUMMARY:Spring Break
URL;VALUE=URI:https://www.nltcc.edu/calendar/7315495/spring-break
DTSTART:20250310T120000Z
DTEND:20250314T170000Z
END:VEVENT
END:VCALENDAR
