BEGIN:VCALENDAR
VERSION:2.0
PRODID:SchoolNow
CALSCALE:GREGORIAN
BEGIN:VEVENT
UID:52ad833a-d2a1-11ef-a781-0a58a9feac02
DTSTAMP:20250114T175939Z
SUMMARY:2nd 8wk Term - Classes Begin
URL;VALUE=URI:https://www.nltcc.edu/calendar/7315496/2nd-8wk-term-classes-b
 egin
DTSTART;VALUE=DATE:20250317
DTEND;VALUE=DATE:20250318
END:VEVENT
END:VCALENDAR
