BEGIN:VCALENDAR
VERSION:2.0
PRODID:SchoolNow
CALSCALE:GREGORIAN
BEGIN:VEVENT
UID:9be24efa-d2a1-11ef-9fa4-0a58a9feac02
DTSTAMP:20250114T180141Z
SUMMARY:Current Student Registration for Summer & Fall 2025 Opens
URL;VALUE=URI:https://www.nltcc.edu/calendar/7315501/current-student-regist
 ration-for-summer-fall-2025-opens
DTSTART;VALUE=DATE:20250324
DTEND;VALUE=DATE:20250325
END:VEVENT
END:VCALENDAR
