BEGIN:VCALENDAR
VERSION:2.0
PRODID:SchoolNow
CALSCALE:GREGORIAN
BEGIN:VEVENT
UID:ad53e388-d2a1-11ef-93ef-0a58a9feac02
DTSTAMP:20250114T180211Z
SUMMARY:New Student Registration for Summer & Fall 2025 Opens
URL;VALUE=URI:https://www.nltcc.edu/calendar/7315502/new-student-registrati
 on-for-summer-fall-2025-opens
DTSTART;VALUE=DATE:20250331
DTEND;VALUE=DATE:20250401
END:VEVENT
END:VCALENDAR
