BEGIN:VCALENDAR
VERSION:2.0
PRODID:SchoolNow
CALSCALE:GREGORIAN
BEGIN:VEVENT
UID:c24a5542-d2a1-11ef-baa3-0a58a9feac02
DTSTAMP:20250331T195407Z
SUMMARY:Spring Graduation
URL;VALUE=URI:https://www.nltcc.edu/calendar/7315503/spring-graduation
DTSTART;VALUE=DATE:20250519
DTEND;VALUE=DATE:20250520
END:VEVENT
END:VCALENDAR
