BEGIN:VCALENDAR
VERSION:2.0
PRODID:SchoolNow
CALSCALE:GREGORIAN
BEGIN:VEVENT
UID:d906dab2-d2a1-11ef-9607-02b0ab0f44fd
DTSTAMP:20250114T180324Z
SUMMARY:Employee Holiday - College Closed
URL;VALUE=URI:https://www.nltcc.edu/calendar/7315504/employee-holiday-colle
 ge-closed
DTSTART;VALUE=DATE:20250526
DTEND;VALUE=DATE:20250527
END:VEVENT
END:VCALENDAR
