BEGIN:VCALENDAR
VERSION:2.0
PRODID:SchoolNow
CALSCALE:GREGORIAN
BEGIN:VEVENT
UID:e9e87908-d2a1-11ef-9526-0a58a9feac02
DTSTAMP:20250114T180352Z
SUMMARY:Summer Semester Begins
URL;VALUE=URI:https://www.nltcc.edu/calendar/7315505/summer-semester-begins
DTSTART;VALUE=DATE:20250527
DTEND;VALUE=DATE:20250528
END:VEVENT
END:VCALENDAR
