BEGIN:VCALENDAR
VERSION:2.0
PRODID:SchoolNow
CALSCALE:GREGORIAN
BEGIN:VEVENT
UID:09ffefbe-d2a2-11ef-a655-0affd1e096cd
DTSTAMP:20250114T180446Z
SUMMARY:Employee/Student Holiday - Campus Closed
URL;VALUE=URI:https://www.nltcc.edu/calendar/7315506/employee-student-holid
 ay-campus-closed
DTSTART;VALUE=DATE:20250619
DTEND;VALUE=DATE:20250620
END:VEVENT
END:VCALENDAR
