BEGIN:VCALENDAR
VERSION:2.0
PRODID:SchoolNow
CALSCALE:GREGORIAN
BEGIN:VEVENT
UID:1b0abe56-d2a2-11ef-8576-0a58a9feac02
DTSTAMP:20250114T180515Z
SUMMARY:Employee/Student Holiday
URL;VALUE=URI:https://www.nltcc.edu/calendar/7315507/employee-student-holid
 ay
DTSTART;VALUE=DATE:20250704
DTEND;VALUE=DATE:20250705
END:VEVENT
END:VCALENDAR
