BEGIN:VCALENDAR
VERSION:2.0
PRODID:SchoolNow
CALSCALE:GREGORIAN
BEGIN:VEVENT
UID:e110d6d0-3b20-11f0-9202-0a58a9feac02
DTSTAMP:20250527T173444Z
SUMMARY:Manufacturing Camp Session 1
URL;VALUE=URI:https://www.nltcc.edu/calendar/8207627/manufacturing-camp-ses
 sion-1
DTSTART:20250714T140000Z
DTEND:20250717T200000Z
END:VEVENT
END:VCALENDAR
