BEGIN:VCALENDAR
VERSION:2.0
PRODID:SchoolNow
CALSCALE:GREGORIAN
BEGIN:VEVENT
UID:ff172954-3b20-11f0-8931-0a58a9feac02
DTSTAMP:20250527T173535Z
SUMMARY:Manufacturing Camp Session 2
URL;VALUE=URI:https://www.nltcc.edu/calendar/8207628/manufacturing-camp-ses
 sion-2
DTSTART:20250721T140000Z
DTEND:20250724T200000Z
END:VEVENT
END:VCALENDAR
