BEGIN:VCALENDAR
VERSION:2.0
PRODID:SchoolNow
CALSCALE:GREGORIAN
BEGIN:VEVENT
UID:b2f738f6-5688-11f0-85a4-0a58a9feac02
DTSTAMP:20250701T143556Z
SUMMARY:New Student Orientation - Minden
LOCATION:Minden
URL;VALUE=URI:https://www.nltcc.edu/calendar/8373631/new-student-orientatio
 n-minden
DTSTART:20250729T140000Z
DTEND:20250729T170000Z
ATTACH;FILENAME=Orientation Flyer (1).png;FMTTYPE=image/png:https://campuss
 uite-storage.s3.amazonaws.com/prod/1558766/5f3483b4-90ef-11e9-b67b-12dad15
 43caa/2976948/8a343388-5688-11f0-b8ad-0affc326c55b/file/Orientation Flyer 
 (1).png
END:VEVENT
END:VCALENDAR
