BEGIN:VCALENDAR
VERSION:2.0
PRODID:SchoolNow
CALSCALE:GREGORIAN
BEGIN:VEVENT
UID:cbfe8354-5688-11f0-9a6b-0a58a9feac02
DTSTAMP:20250701T143638Z
SUMMARY:New Student Orientation - Shreveport
URL;VALUE=URI:https://www.nltcc.edu/calendar/8373632/new-student-orientatio
 n-shreveport
DTSTART:20250730T140000Z
DTEND:20250730T170000Z
ATTACH;FILENAME=Orientation Flyer (1).png;FMTTYPE=image/png:https://campuss
 uite-storage.s3.amazonaws.com/prod/1558766/5f3483b4-90ef-11e9-b67b-12dad15
 43caa/2976948/8a343388-5688-11f0-b8ad-0affc326c55b/file/Orientation Flyer 
 (1).png
END:VEVENT
END:VCALENDAR
