BEGIN:VCALENDAR
VERSION:2.0
PRODID:SchoolNow
CALSCALE:GREGORIAN
BEGIN:VEVENT
UID:0a093664-7211-11f0-9188-0a58a9feac02
DTSTAMP:20250805T152955Z
SUMMARY:Fall Semester Begins
URL;VALUE=URI:https://www.nltcc.edu/calendar/8472168/fall-semester-begins
DTSTART;VALUE=DATE:20250811
DTEND;VALUE=DATE:20250812
END:VEVENT
END:VCALENDAR
