BEGIN:VCALENDAR
VERSION:2.0
PRODID:SchoolNow
CALSCALE:GREGORIAN
BEGIN:VEVENT
UID:19c2ecd0-7211-11f0-9d0c-0affee0271f9
DTSTAMP:20250805T153022Z
SUMMARY:Labor Day - Campus Closed
URL;VALUE=URI:https://www.nltcc.edu/calendar/8472170/labor-day-campus-close
 d
DTSTART;VALUE=DATE:20250901
DTEND;VALUE=DATE:20250902
END:VEVENT
END:VCALENDAR
