BEGIN:VCALENDAR
VERSION:2.0
PRODID:SchoolNow
CALSCALE:GREGORIAN
BEGIN:VEVENT
UID:b4c90282-7211-11f0-9e85-0a58a9feac02
DTSTAMP:20250805T153442Z
SUMMARY:Student Fall Break
URL;VALUE=URI:https://www.nltcc.edu/calendar/8472171/student-fall-break
DTSTART;VALUE=DATE:20251007
DTEND;VALUE=DATE:20251011
END:VEVENT
END:VCALENDAR
