BEGIN:VCALENDAR
VERSION:2.0
PRODID:SchoolNow
CALSCALE:GREGORIAN
BEGIN:VEVENT
UID:d2a0fdaa-7211-11f0-97b1-0affe48c7e35
DTSTAMP:20250805T153532Z
SUMMARY:Student and 9-month Faculty holiday - Thanksgiving
URL;VALUE=URI:https://www.nltcc.edu/calendar/8472172/student-and-9-month-fa
 culty-holiday-thanksgiving
DTSTART;VALUE=DATE:20251124
DTEND;VALUE=DATE:20251129
END:VEVENT
END:VCALENDAR
