BEGIN:VCALENDAR
VERSION:2.0
PRODID:SchoolNow
CALSCALE:GREGORIAN
BEGIN:VEVENT
UID:e5087c02-7211-11f0-a0dc-0a58a9feac02
DTSTAMP:20250805T153603Z
SUMMARY:Campus Open - No Classes
URL;VALUE=URI:https://www.nltcc.edu/calendar/8472173/campus-open-no-classes
DTSTART;VALUE=DATE:20251124
DTEND;VALUE=DATE:20251127
END:VEVENT
END:VCALENDAR
