BEGIN:VCALENDAR
VERSION:2.0
PRODID:SchoolNow
CALSCALE:GREGORIAN
BEGIN:VEVENT
UID:f2785f92-7211-11f0-82c4-0a58a9feac02
DTSTAMP:20251104T164910Z
SUMMARY:Employee Holiday - Campus Closed
URL;VALUE=URI:https://www.nltcc.edu/calendar/8472174/employee-holiday-colle
 ge-closed
DTSTART;VALUE=DATE:20251127
DTEND;VALUE=DATE:20251129
END:VEVENT
END:VCALENDAR
