BEGIN:VCALENDAR
VERSION:2.0
PRODID:SchoolNow
CALSCALE:GREGORIAN
BEGIN:VEVENT
UID:7a3af700-7212-11f0-adfa-0e31a27fada3
DTSTAMP:20250805T154013Z
SUMMARY:Employee Holiday - Campus Clossed
URL;VALUE=URI:https://www.nltcc.edu/calendar/8472175/employee-holiday-campu
 s-clossed
DTSTART;VALUE=DATE:20251224
DTEND;VALUE=DATE:20260101
END:VEVENT
END:VCALENDAR
