BEGIN:VCALENDAR
VERSION:2.0
PRODID:SchoolNow
CALSCALE:GREGORIAN
BEGIN:VEVENT
UID:866801d0-7212-11f0-bb1a-0a58a9feac02
DTSTAMP:20250805T154033Z
SUMMARY:Employee Holiday - Campus Closed
URL;VALUE=URI:https://www.nltcc.edu/calendar/8472176/employee-holiday-campu
 s-closed
DTSTART;VALUE=DATE:20260101
DTEND;VALUE=DATE:20260102
END:VEVENT
END:VCALENDAR
