BEGIN:VCALENDAR
VERSION:2.0
PRODID:SchoolNow
CALSCALE:GREGORIAN
BEGIN:VEVENT
UID:921c5d82-7212-11f0-bdc2-0a58a9feac02
DTSTAMP:20250805T154053Z
SUMMARY:Employee Holiday - Campus Closed
URL;VALUE=URI:https://www.nltcc.edu/calendar/8472177/employee-holiday-campu
 s-closed
DTSTART;VALUE=DATE:20260119
DTEND;VALUE=DATE:20260120
END:VEVENT
END:VCALENDAR
