BEGIN:VCALENDAR
VERSION:2.0
PRODID:SchoolNow
CALSCALE:GREGORIAN
BEGIN:VEVENT
UID:d6b9318e-e442-11f0-a127-0a58a9feac02
DTSTAMP:20251228T231336Z
SUMMARY:Convocation
LOCATION:Minden Campus
URL;VALUE=URI:https://www.nltcc.edu/calendar/8827544/convocation
DTSTART:20260107T140000Z
DTEND:20260107T230000Z
END:VEVENT
END:VCALENDAR
