BEGIN:VCALENDAR
VERSION:2.0
PRODID:SchoolNow
CALSCALE:GREGORIAN
BEGIN:VEVENT
UID:f0cca15a-e442-11f0-b890-0a58a9feac02
DTSTAMP:20251228T231420Z
SUMMARY:Professional Development with the Divisional Deans
LOCATION:Locations to vary as directed by Deans
URL;VALUE=URI:https://www.nltcc.edu/calendar/8827545/professional-developme
 nt-with-the-divisional-deans
DTSTART;VALUE=DATE:20260108
DTEND;VALUE=DATE:20260109
END:VEVENT
END:VCALENDAR
