BEGIN:VCALENDAR
VERSION:2.0
PRODID:SchoolNow
CALSCALE:GREGORIAN
BEGIN:VEVENT
UID:35d9462a-efd0-11f0-b81e-0affeea2f31f
DTSTAMP:20260112T160318Z
SUMMARY:Spring Semester Begins
URL;VALUE=URI:https://www.nltcc.edu/calendar/8834940/spring-semester-begins
DTSTART;VALUE=DATE:20260112
DTEND;VALUE=DATE:20260113
END:VEVENT
END:VCALENDAR
