BEGIN:VCALENDAR
VERSION:2.0
PRODID:SchoolNow
CALSCALE:GREGORIAN
BEGIN:VEVENT
UID:59c795dc-efd0-11f0-96d4-0a58a9feac02
DTSTAMP:20260112T161847Z
SUMMARY:Spring Semester Late Registration
URL;VALUE=URI:https://www.nltcc.edu/calendar/8834941/spring-semester-late-r
 egistration
DTSTART;VALUE=DATE:20260112
DTEND;VALUE=DATE:20260117
END:VEVENT
END:VCALENDAR
