BEGIN:VCALENDAR
VERSION:2.0
PRODID:SchoolNow
CALSCALE:GREGORIAN
BEGIN:VEVENT
UID:8a86ca62-efd0-11f0-ae43-0a58a9feac02
DTSTAMP:20260112T160540Z
SUMMARY:1st 8 Week Final Exams
URL;VALUE=URI:https://www.nltcc.edu/calendar/8834942/1st-8-week-final-exams
DTSTART;VALUE=DATE:20260302
DTEND;VALUE=DATE:20260306
END:VEVENT
END:VCALENDAR
