BEGIN:VCALENDAR
VERSION:2.0
PRODID:SchoolNow
CALSCALE:GREGORIAN
BEGIN:VEVENT
UID:ba3318ec-efd0-11f0-910c-0e622163a263
DTSTAMP:20260112T160700Z
SUMMARY:2nd 8wk Term - Classes Begin
URL;VALUE=URI:https://www.nltcc.edu/calendar/8834944/2nd-8wk-term-classes-b
 egin
DTSTART;VALUE=DATE:20260316
DTEND;VALUE=DATE:20260317
END:VEVENT
END:VCALENDAR
