BEGIN:VCALENDAR
VERSION:2.0
PRODID:SchoolNow
CALSCALE:GREGORIAN
BEGIN:VEVENT
UID:f87f8bc6-efd0-11f0-bfec-029ef081912b
DTSTAMP:20260112T160844Z
SUMMARY:2nd 8wk Term Late Registration
URL;VALUE=URI:https://www.nltcc.edu/calendar/8834945/2nd-8wk-term-late-regi
 stration
DTSTART;VALUE=DATE:20260316
DTEND;VALUE=DATE:20260321
END:VEVENT
END:VCALENDAR
