BEGIN:VCALENDAR
VERSION:2.0
PRODID:SchoolNow
CALSCALE:GREGORIAN
BEGIN:VEVENT
UID:09614006-efd1-11f0-95fa-02095609f2c5
DTSTAMP:20260112T160913Z
SUMMARY:Veteran Priority Registration for Summer & Fall 2026 Opens
URL;VALUE=URI:https://www.nltcc.edu/calendar/8834946/veteran-priority-regis
 tration-for-summer-fall-2026-opens
DTSTART;VALUE=DATE:20260319
DTEND;VALUE=DATE:20260320
END:VEVENT
END:VCALENDAR
