BEGIN:VCALENDAR
VERSION:2.0
PRODID:SchoolNow
CALSCALE:GREGORIAN
BEGIN:VEVENT
UID:1ca3dbce-efd1-11f0-bf29-0affe56211dd
DTSTAMP:20260112T160945Z
SUMMARY:Current Student Registration for Summer & Fall 2026 Opens
URL;VALUE=URI:https://www.nltcc.edu/calendar/8834948/current-student-regist
 ration-for-summer-fall-2026-opens
DTSTART;VALUE=DATE:20260323
DTEND;VALUE=DATE:20260324
END:VEVENT
END:VCALENDAR
