BEGIN:VCALENDAR
VERSION:2.0
PRODID:SchoolNow
CALSCALE:GREGORIAN
BEGIN:VEVENT
UID:2d1eaa56-efd1-11f0-91ae-0a58a9feac02
DTSTAMP:20260112T161013Z
SUMMARY:New Student Registration for Summer & Fal 2026 Opens
URL;VALUE=URI:https://www.nltcc.edu/calendar/8834949/new-student-registrati
 on-for-summer-fal-2026-opens
DTSTART;VALUE=DATE:20260330
DTEND;VALUE=DATE:20260331
END:VEVENT
END:VCALENDAR
