BEGIN:VCALENDAR
VERSION:2.0
PRODID:SchoolNow
CALSCALE:GREGORIAN
BEGIN:VEVENT
UID:3fcaecdc-efd1-11f0-b7d9-0e77d4883f7f
DTSTAMP:20260112T161044Z
SUMMARY:Employee/Student Holiday
URL;VALUE=URI:https://www.nltcc.edu/calendar/8834950/employee-student-holid
 ay
DTSTART;VALUE=DATE:20260406
DTEND;VALUE=DATE:20260407
END:VEVENT
END:VCALENDAR
