BEGIN:VCALENDAR
VERSION:2.0
PRODID:SchoolNow
CALSCALE:GREGORIAN
BEGIN:VEVENT
UID:51e18462-efd1-11f0-be84-0ed741d433c3
DTSTAMP:20260112T161114Z
SUMMARY:Spring Semester Ends
URL;VALUE=URI:https://www.nltcc.edu/calendar/8834951/spring-semester-ends
DTSTART;VALUE=DATE:20260508
DTEND;VALUE=DATE:20260509
END:VEVENT
END:VCALENDAR
