BEGIN:VCALENDAR
VERSION:2.0
PRODID:SchoolNow
CALSCALE:GREGORIAN
BEGIN:VEVENT
UID:618e30f4-efd1-11f0-b82c-0a58a9feac02
DTSTAMP:20260401T191909Z
SUMMARY:Spring Graduation
LOCATION:Bossier City Civic Center
URL;VALUE=URI:https://www.nltcc.edu/calendar/8834952/spring-graduation
DTSTART:20260519T190000Z
DTEND:20260519T220000Z
END:VEVENT
END:VCALENDAR
