BEGIN:VCALENDAR
VERSION:2.0
PRODID:SchoolNow
CALSCALE:GREGORIAN
BEGIN:VEVENT
UID:6fc5eedc-efd1-11f0-acd0-02752ee9250f
DTSTAMP:20260112T161205Z
SUMMARY:Employee Holiday - College Closed
URL;VALUE=URI:https://www.nltcc.edu/calendar/8834953/employee-holiday-colle
 ge-closed
DTSTART;VALUE=DATE:20260525
DTEND;VALUE=DATE:20260526
END:VEVENT
END:VCALENDAR
