BEGIN:VCALENDAR
VERSION:2.0
PRODID:SchoolNow
CALSCALE:GREGORIAN
BEGIN:VEVENT
UID:7eadb772-efd1-11f0-8379-0affeea2f31f
DTSTAMP:20260112T161230Z
SUMMARY:Summer Semester Begins
URL;VALUE=URI:https://www.nltcc.edu/calendar/8834954/summer-semester-begins
DTSTART;VALUE=DATE:20260526
DTEND;VALUE=DATE:20260527
END:VEVENT
END:VCALENDAR
