BEGIN:VCALENDAR
VERSION:2.0
PRODID:SchoolNow
CALSCALE:GREGORIAN
BEGIN:VEVENT
UID:92cb66dc-efd1-11f0-90e1-0a58a9feac02
DTSTAMP:20260112T161303Z
SUMMARY:Summer Semester Late Registration
URL;VALUE=URI:https://www.nltcc.edu/calendar/8834955/summer-semester-late-r
 egistration
DTSTART;VALUE=DATE:20260526
DTEND;VALUE=DATE:20260602
END:VEVENT
END:VCALENDAR
