BEGIN:VCALENDAR
VERSION:2.0
PRODID:SchoolNow
CALSCALE:GREGORIAN
BEGIN:VEVENT
UID:a0910fa6-efd1-11f0-ac3f-026f654cd4b5
DTSTAMP:20260112T161326Z
SUMMARY:Employee/Student Holiday
URL;VALUE=URI:https://www.nltcc.edu/calendar/8834956/employee-student-holid
 ay
DTSTART;VALUE=DATE:20260622
DTEND;VALUE=DATE:20260623
END:VEVENT
END:VCALENDAR
