BEGIN:VCALENDAR
VERSION:2.0
PRODID:SchoolNow
CALSCALE:GREGORIAN
BEGIN:VEVENT
UID:b282d58c-efd1-11f0-a3ef-0a58a9feac02
DTSTAMP:20260112T161357Z
SUMMARY:8wk Term - Final Exams
URL;VALUE=URI:https://www.nltcc.edu/calendar/8834957/8wk-term-final-exams
DTSTART;VALUE=DATE:20260713
DTEND;VALUE=DATE:20260717
END:VEVENT
END:VCALENDAR
